BEGIN:VCALENDAR
VERSION:2.0
PRODID:-//wp-events-plugin.com//7.2.3.1//EN
BEGIN:VEVENT
UID:42@pickleball-club.com
DTSTART;VALUE=DATE:20250425
DTEND;VALUE=DATE:20250428
DTSTAMP:20250327T130904Z
URL:https://pickleball-club.com/events/i-circuito-de-andalucia-de-pickleba
 ll-3a-prueba/
SUMMARY:I Circuito de Andalucía de Pickleball: 3ª Prueba
DESCRIPTION:
ATTACH;FMTTYPE=image/jpeg:https://pickleball-club.com/wp-content/uploads/2
 025/03/WhatsApp-Image-2025-03-25-at-13.06.08.jpeg
CATEGORIES:Importantes
LOCATION:Colegio Los Olivos\, C. Julio Verne\, 8\, Puerto de la Torre\, 291
 90 Málaga\, Málaga\, 29190\, Málaga\, España
X-APPLE-STRUCTURED-LOCATION;VALUE=URI;X-ADDRESS=C. Julio Verne\, 8\, Puerto
  de la Torre\, 29190 Málaga\, Málaga\, 29190\, Málaga\, España;X-APPLE
 -RADIUS=100;X-TITLE=Colegio Los Olivos:geo:0,0
END:VEVENT
END:VCALENDAR